BEGIN:VCALENDAR
VERSION:2.0
PRODID:Events Booking
BEGIN:VEVENT
UID:69e7415c0f23c
SUMMARY:The Tour - Nashville
DESCRIPTION:&nbsp\;
 This weekend Coach Lundy is on the road with Trackman
  and The Tour! We're honored to have James Wilhoit host this event!
 CLIC
 K HERE for more info.&nbsp\;
DTSTART:20260417T130000Z
DTEND:20260419T200000Z
DTSTAMP:20250910T230248Z
ORGANIZER;CN=4th Down University:MAILTO:4thdownu@gmail.com
END:VEVENT
END:VCALENDAR