BEGIN:VCALENDAR
VERSION:2.0
PRODID:Events Booking
BEGIN:VEVENT
UID:69e740f07eea9
SUMMARY:Dallas Spring Break w/ Performance Kicking
DESCRIPTION:&nbsp\;
 This week Coach Lundy is on the road with Coach Egan 
 and Performance Kicking for spring break training!
 CLICK HERE for more i
 nformation.&nbsp\;
DTSTART:20260315T130000Z
DTEND:20260320T210000Z
DTSTAMP:20250910T230248Z
ORGANIZER;CN=4th Down University:MAILTO:4thdownu@gmail.com
END:VEVENT
END:VCALENDAR